BEGIN:VCALENDAR
VERSION:2.0
PRODID:-//eventon.com NONSGML v1.0//EN
BEGIN:VEVENT
UID:69ea4932136c7
DTSTAMP:20260423T183042
DTSTART:20210701T070000Z
DTEND:20210701T105000Z
TZID:Pacific/Midway
LOCATION:
SUMMARY:Turin\,  Italien
DESCRIPTION: \nhttps://jacquesammon.com/events/turin-italien/
URL:https://jacquesammon.com/events/turin-italien/
END:VEVENT
END:VCALENDAR